Felt | Verdi |
AlreadyApplied | True |
Aperture | 5.7 |
ApertureValue | 5.7 |
AutoLateralCA | 0 |
BitsPerSample | 8 |
BlackClip | 0.000000 |
Blacks2012 | 0 |
BlueHue | 0 |
BlueSaturation | 0 |
CameraProfile | Embedded |
CircleOfConfusion | 0.006 mm |
Clarity2012 | 0 |
ColorComponents | 3 |
ColorNoiseReduction | 0 |
ColorSaturation | 46.0 |
ColorTemperature | 0.0 |
Contrast2012 | -33 |
ConvertToGrayscale | False |
CreateDate | 2012:12:26 11:16:47 |
CreatorTool | Adobe Photoshop Lightroom 4.3 (Macintosh) |
CropAngle | -1.59867 |
CropBottom | 0.960157 |
CropConstrainToWarp | 0 |
CropHeight | 673 |
CropLeft | 0.01091 |
CropRight | 0.98909 |
CropTop | 0.039843 |
CropUnit | pixels |
CropWidth | 1000 |
DateCreated (1) | 2012:12:26 |
DateCreated | 2012:12:26 11:16:47 |
DateTimeOriginal | 2012:12:26 11:16:47 |
DefringeGreenAmount | 0 |
DefringeGreenHueHi | 60 |
DefringeGreenHueLo | 40 |
DefringePurpleAmount | 0 |
DefringePurpleHueHi | 70 |
DefringePurpleHueLo | 30 |
DigitalZoomRatio | 0 |
Exposure2012 | -0.55 |
ExposureCompensation | +0.332 |
ExposureProgram | Manual |
ExposureTime | 1/90 |
Flash | On, Did not fire |
FNumber | 5.7 |
Format | image/jpeg |
Gamma | 1.00 |
GrainAmount | 0 |
GreenHue | 0 |
GreenSaturation | 0 |
HasCrop | True |
HasSettings | True |
Highlights2012 | 0 |
HighlightsSmoothing | 0.0 |
HueAdjustmentAqua | 0 |
HueAdjustmentBlue | 0 |
HueAdjustmentGreen | 0 |
HueAdjustmentMagenta | 0 |
HueAdjustmentOrange | 0 |
HueAdjustmentPurple | 0 |
HueAdjustmentRed | 0 |
HueAdjustmentYellow | 0 |
ImageHeight | 673 |
ImageSize | 1000x673 |
ImageWidth | 1000 |
IncrementalTemperature | +16 |
IncrementalTint | 0 |
ISO | 160 |
IsPano360 | No |
LensManualDistortionAmount | 0 |
LensProfileEnable | 0 |
LensProfileSetup | LensDefaults |
LightSource | Unknown |
LightValue | 10.8 |
LuminanceAdjustmentAqua | 0 |
LuminanceAdjustmentBlue | 0 |
LuminanceAdjustmentGreen | 0 |
LuminanceAdjustmentMagenta | 0 |
LuminanceAdjustmentOrange | 0 |
LuminanceAdjustmentPurple | 0 |
LuminanceAdjustmentRed | 0 |
LuminanceAdjustmentYellow | 0 |
LuminanceSmoothing | 0 |
Luminosity | 0.0 |
Make | Leica Camera AG |
MaxApertureValue | 1.0 |
Megapixels | 0.673 |
MeteringMode | Center-weighted average |
Method | Details Enhancer |
Microcontrast | 0.0 |
Microsmoothing | 2.0 |
Model | M8 Digital Camera |
ModifyDate (1) | 2013:01:05 16:19:56+01:00 |
ModifyDate | 2013:01:05 16:19:56 |
ParametricDarks | 0 |
ParametricHighlights | 0 |
ParametricHighlightSplit | 75 |
ParametricLights | 0 |
ParametricMidtoneSplit | 50 |
ParametricShadows | 0 |
ParametricShadowSplit | 25 |
PerspectiveHorizontal | 0 |
PerspectiveRotate | 0.0 |
PerspectiveScale | 100 |
PerspectiveVertical | 0 |
PostCropVignetteAmount | -10 |
PostCropVignetteFeather | 100 |
PostCropVignetteHighlightContrast | 0 |
PostCropVignetteMidpoint | 1 |
PostCropVignetteRoundness | +100 |
PostCropVignetteStyle | 1 |
ProcessVersion | 6.7 |
ProfileDescription | sRGB IEC61966-2.1 |
RedHue | 0 |
RedSaturation | 0 |
Saturation | 0 |
SaturationAdjustmentAqua | 0 |
SaturationAdjustmentBlue | 0 |
SaturationAdjustmentGreen | 0 |
SaturationAdjustmentMagenta | 0 |
SaturationAdjustmentOrange | 0 |
SaturationAdjustmentPurple | 0 |
SaturationAdjustmentRed | 0 |
SaturationAdjustmentYellow | 0 |
SaturationHighlights | 0.0 |
SaturationShadows | 0.0 |
ScaleFactor35efl | 5.3 |
SceneCaptureType | Standard |
SerialNumber | 3330560 |
Shadows2012 | 0 |
ShadowsClipping | 0.0 |
ShadowsSmoothing | 0.0 |
ShadowTint | 0 |
SharpenDetail | 25 |
SharpenEdgeMasking | 0 |
SharpenRadius | +1.0 |
Sharpness | 0 |
ShutterSpeed | 1/90 |
ShutterSpeedValue | 1/90 |
Smoothing | 0.0 |
SmoothingMode | Slider |
Software | Adobe Photoshop Lightroom 4.3 (Macintosh) |
SplitToningBalance | 0 |
SplitToningHighlightHue | 0 |
SplitToningHighlightSaturation | 0 |
SplitToningShadowHue | 0 |
SplitToningShadowSaturation | 0 |
Strength | 70.0 |
ToneCurveName2012 | Linear |
ToneCurvePV2012 | 0, 0, 255, 255 |
ToneCurvePV2012Blue | 0, 0, 255, 255 |
ToneCurvePV2012Green | 0, 0, 255, 255 |
ToneCurvePV2012Red | 0, 0, 255, 255 |
Version (1) | 4.2 |
Version | 7.3 |
Vibrance | 0 |
VignetteAmount | 0 |
WhiteBalance (1) | Custom |
WhiteBalance | Auto |
WhiteClip | 0.250000 |
Whites2012 | 0 |