Felt | Verdi |
AlreadyApplied | True |
Aperture | 5.0 |
ApertureValue | 5.0 |
ApproximateFocusDistance | 13.3 |
BitsPerSample | 8 |
BlueHue | 0 |
BlueSaturation | 0 |
Brightness | +50 |
CameraProfile | Camera Standard |
ChromaticAberrationB | 0 |
ChromaticAberrationR | 0 |
CircleOfConfusion | 0.019 mm |
Clarity | +100 |
ColorComponents | 3 |
ColorMode | RGB |
ColorNoiseReduction | 25 |
ColorNoiseReductionDetail | 50 |
ColorSpace | Uncalibrated |
ColorTemperature | 7150 |
Contrast | +68 |
ConvertToGrayscale | False |
CreateDate (1) | 2009:07:05 23:24:50.00+02:00 |
CreateDate | 2009:07:05 23:24:50 |
CustomRendered | Normal |
DateCreated (1) | 2009:07:05 |
DateCreated | 2009:07:05 23:24:50+02:00 |
DateTimeOriginal | 2009:07:05 23:24:50 |
Defringe | 0 |
DOF | 16.19 m (9.03 - 25.22 m) |
ExifImageHeight | 873 |
ExifImageWidth | 1500 |
Exposure | -0.95 |
ExposureCompensation | +2 |
ExposureMode | Auto |
ExposureProgram | Aperture-priority AE |
ExposureTime | 1/4000 |
FillLight | 16 |
Firmware | 1.1.1 |
Flash | Off, Did not fire |
FlashCompensation | 0 |
FNumber | 5.0 |
FocalLength | 51.0 mm |
FocalLength35efl | 51.0 mm (35 mm equivalent: 82.6 mm) |
Format | image/jpeg |
FOV | 24.6 deg |
GradientBasedCorrActive | true |
GradientBasedCorrAmount | 1.000000 |
GradientBasedCorrBrightness (1) | -0.105000 |
GradientBasedCorrBrightness | -0.200000 |
GradientBasedCorrClarity (1) | 0.000000 |
GradientBasedCorrClarity | -0.740000 |
GradientBasedCorrContrast (1) | 0.410000 |
GradientBasedCorrContrast | 0.000000 |
GradientBasedCorrExposure (1) | 0.125000 |
GradientBasedCorrExposure | -0.375000 |
GradientBasedCorrHue | 0.000000 |
GradientBasedCorrMaskFullX (1) | 0.438651 |
GradientBasedCorrMaskFullX | 0.455999 |
GradientBasedCorrMaskFullY (1) | 0.011391 |
GradientBasedCorrMaskFullY | 0.994206 |
GradientBasedCorrMaskValue | 1.000000 |
GradientBasedCorrMaskWhat | Mask/Gradient |
GradientBasedCorrMaskZeroX (1) | 0.439029 |
GradientBasedCorrMaskZeroX | 0.456895 |
GradientBasedCorrMaskZeroY (1) | 0.634450 |
GradientBasedCorrMaskZeroY | 0.627955 |
GradientBasedCorrSaturation (1) | 0.450000 |
GradientBasedCorrSaturation | 0.000000 |
GradientBasedCorrSharpness | 0.000000 |
GradientBasedCorrWhat | Correction |
GrainAmount | 0 |
GreenHue | 0 |
GreenSaturation | 0 |
HasCrop | False |
HasSettings | True |
HighlightRecovery | 100 |
HueAdjustmentAqua | 0 |
HueAdjustmentBlue | 0 |
HueAdjustmentGreen | 0 |
HueAdjustmentMagenta | 0 |
HueAdjustmentOrange | 0 |
HueAdjustmentPurple | 0 |
HueAdjustmentRed | 0 |
HueAdjustmentYellow | 0 |
HyperfocalDistance | 28.03 m |
ICCProfileName | Adobe RGB (1998) |
ImageHeight | 873 |
ImageNumber | 0 |
ImageSize | 1500x873 |
ImageWidth | 1500 |
ISO | 100 |
Lens | 18-200mm |
LensID (1) | 169 |
LensID | Sigma 18-200mm f/3.5-6.3 DC OS |
LensInfo | 18-200mm f/? |
LensManualDistortionAmount | 0 |
LensModel | 18-200mm |
LensProfileChromaticAberrationScale | 100 |
LensProfileDistortionScale | 100 |
LensProfileEnable | 1 |
LensProfileFilename | Canon (Sigma_18-200mm_F3.5-6.3_DC ) - RAW.lcp |
LensProfileName | Adobe (SIGMA 18-200mm F3.5-6.3 DC, Canon) |
LensProfileSetup | LensDefaults |
LensProfileVignettingScale | 100 |
LightValue | 16.6 |
LuminanceAdjustmentAqua | 0 |
LuminanceAdjustmentBlue | 0 |
LuminanceAdjustmentGreen | 0 |
LuminanceAdjustmentMagenta | 0 |
LuminanceAdjustmentOrange | 0 |
LuminanceAdjustmentPurple | 0 |
LuminanceAdjustmentRed | 0 |
LuminanceAdjustmentYellow | 0 |
LuminanceNoiseReductionContrast | 0 |
LuminanceNoiseReductionDetail | 50 |
LuminanceSmoothing | 56 |
Make | Canon |
MaxApertureValue | 5.0 |
Megapixels | 1.3 |
MeteringMode | Multi-segment |
Model | Canon EOS 40D |
ModifyDate (1) | 2011:07:09 21:17:55+02:00 |
ModifyDate | 2011:07:09 21:17:55 |
Orientation | Horizontal (normal) |
PaintCorrectionActive | true |
PaintCorrectionAmount | 1.000000 |
PaintCorrectionBrightness (1) | -0.190000 |
PaintCorrectionBrightness | 0.000000 |
PaintCorrectionClarity | 0.000000 |
PaintCorrectionContrast | 0.000000 |
PaintCorrectionExposure (1) | -0.837500 |
PaintCorrectionExposure | -0.425000 |
PaintCorrectionHue | 0.000000 |
PaintCorrectionMaskCenterWeight (10) | 1.000000 |
PaintCorrectionMaskCenterWeight (5) | 0.020488 |
PaintCorrectionMaskCenterWeight | 0.383197 |
PaintCorrectionMaskFlow | 0.888889 |
PaintCorrectionMaskRadius (1) | 0.054325 |
PaintCorrectionMaskRadius (10) | 0.078654 |
PaintCorrectionMaskRadius (11) | 0.078916 |
PaintCorrectionMaskRadius (12) | 0.218593 |
PaintCorrectionMaskRadius (13) | 0.092006 |
PaintCorrectionMaskRadius (14) | 0.091487 |
PaintCorrectionMaskRadius (15) | 0.090905 |
PaintCorrectionMaskRadius (2) | 0.222015 |
PaintCorrectionMaskRadius (3) | 0.218099 |
PaintCorrectionMaskRadius (4) | 0.217100 |
PaintCorrectionMaskRadius (5) | 0.222028 |
PaintCorrectionMaskRadius (6) | 0.221798 |
PaintCorrectionMaskRadius (7) | 0.217495 |
PaintCorrectionMaskRadius (8) | 0.222033 |
PaintCorrectionMaskRadius (9) | 0.221400 |
PaintCorrectionMaskRadius | 0.093462 |
PaintCorrectionMaskValue (2) | 1.000000 |
PaintCorrectionMaskValue | 0.000000 |
PaintCorrectionMaskWhat | Mask/Paint |
PaintCorrectionSaturation (1) | 0.270000 |
PaintCorrectionSaturation | 0.000000 |
PaintCorrectionSharpness | 0.000000 |
PaintCorrectionWhat | Correction |
ParametricDarks | 0 |
ParametricHighlights | 0 |
ParametricHighlightSplit | 75 |
ParametricLights | 0 |
ParametricMidtoneSplit | 50 |
ParametricShadows | 0 |
ParametricShadowSplit | 25 |
PerspectiveHorizontal | 0 |
PerspectiveRotate | 0.0 |
PerspectiveScale | 100 |
PerspectiveVertical | 0 |
PostCropVignetteAmount | 0 |
ProcessVersion | 5.7 |
ProfileDescription | Adobe RGB (1998) |
Rating | 0 |
RawFileName | IMG_0012.CR2 |
RedHue | 0 |
RedSaturation | 0 |
Saturation | +5 |
SaturationAdjustmentAqua | 0 |
SaturationAdjustmentBlue | 0 |
SaturationAdjustmentGreen | 0 |
SaturationAdjustmentMagenta | 0 |
SaturationAdjustmentOrange | 0 |
SaturationAdjustmentPurple | 0 |
SaturationAdjustmentRed | 0 |
SaturationAdjustmentYellow | 0 |
ScaleFactor35efl | 1.6 |
SceneCaptureType | Standard |
SerialNumber | 2331205749 |
Shadows | 0 |
ShadowTint | 0 |
SharpenDetail | 25 |
SharpenEdgeMasking | 0 |
SharpenRadius | +1.0 |
Sharpness | 25 |
ShutterSpeed | 1/4000 |
ShutterSpeedValue | 1/4000 |
Software | Adobe Photoshop CS5 Windows |
SplitToningBalance | 0 |
SplitToningHighlightHue | 0 |
SplitToningHighlightSaturation | 0 |
SplitToningShadowHue | 0 |
SplitToningShadowSaturation | 0 |
SubjectDistance | 13.3 m |
Tint | +10 |
ToneCurve | 0, 0, 32, 22, 64, 56, 128, 128, 192, 196, 255, 255 |
ToneCurveName | Medium Contrast |
URL_List | |
Version | 6.4.1 |
Vibrance | +32 |
VignetteAmount | 0 |
WhiteBalance (1) | Custom |
WhiteBalance | Auto |