Felt | Verdi |
AlreadyApplied | True |
Aperture | 6.3 |
ApertureValue | 6.3 |
ApproximateFocusDistance | 4294967295 |
Artist | Jan Erik Arud |
AuthorsPosition | Photographer |
BitsPerSample | 8 |
BlueHue | 0 |
BlueSaturation | 0 |
Brightness | +50 |
By-line | Jan Erik Arud |
By-lineTitle | Photographer |
CameraProfile | Adobe Standard |
ChromaticAberrationB | 0 |
ChromaticAberrationR | 0 |
CircleOfConfusion | 0.023 mm |
Clarity | 0 |
ColorComponents | 3 |
ColorNoiseReduction | 25 |
ColorNoiseReductionDetail | 50 |
ColorTemperature | 7500 |
Contrast | +25 |
ConvertToGrayscale | False |
Copyright | © 2011 Jan Erik Arud |
CopyrightFlag | True |
CopyrightNotice | © 2011 Jan Erik Arud |
CreateDate (1) | 2011:08:20 15:04:03.99 |
CreateDate | 2011:08:20 15:04:03 |
Creator | Jan Erik Arud |
CreatorAddress | Henrik Wergelands Gt.18 |
CreatorCity | Notodden |
CreatorCountry | Norway |
CreatorPostalCode | 3675 |
CreatorRegion | Telemark |
CreatorTool | Adobe Photoshop Lightroom 3.4.1 |
CreatorWorkEmail | jan.erik.arud@gmail.com |
CreatorWorkTelephone | + 47 93 41 12 36 |
CreatorWorkURL | http://www.flickr.com/photos/jarud/ |
CropAngle | 0 |
CropBottom | 1 |
CropConstrainToWarp | 0 |
CropHeight | 761 |
CropLeft | 0 |
CropRight | 0.92775 |
CropTop | 0.172414 |
CropUnit | pixels |
CropWidth | 1280 |
CustomRendered | Normal |
DateCreated (1) | 2011:08:20 |
DateCreated | 2011:08:20 15:04:03.99 |
DateTimeOriginal | 2011:08:20 15:04:03 |
Defringe | 0 |
DOF | inf (1692.36 m - inf) |
Exposure | 0.00 |
ExposureCompensation | 0 |
ExposureMode | Manual |
ExposureProgram | Manual |
ExposureTime | 1/640 |
FillLight | 14 |
Firmware | 1.3.0 |
Flash | Off, Did not fire |
FlashCompensation | 0 |
FNumber | 6.3 |
FocalLength | 500.0 mm |
FocalLength35efl | 500.0 mm (35 mm equivalent: 640.7 mm) |
FOV | 3.2 deg |
GradientBasedCorrActive | true |
GradientBasedCorrAmount | 1.000000 |
GradientBasedCorrBrightness | 0.025000 |
GradientBasedCorrClarity | -0.655172 |
GradientBasedCorrContrast | -0.149425 |
GradientBasedCorrExposure | -0.241379 |
GradientBasedCorrHue | 232.000000 |
GradientBasedCorrMaskFullX | 0.561227 |
GradientBasedCorrMaskFullY | 0.120095 |
GradientBasedCorrMaskValue | 1.000000 |
GradientBasedCorrMaskWhat | Mask/Gradient |
GradientBasedCorrMaskZeroX | 0.399594 |
GradientBasedCorrMaskZeroY | 1.325480 |
GradientBasedCorrSaturation (1) | -0.149425 |
GradientBasedCorrSaturation | 0.350000 |
GradientBasedCorrSharpness | -0.150000 |
GradientBasedCorrWhat | Correction |
GrainAmount | 0 |
GreenHue | 0 |
GreenSaturation | 0 |
HasCrop | True |
HasSettings | True |
HighlightRecovery | 20 |
HueAdjustmentAqua | 0 |
HueAdjustmentBlue | 0 |
HueAdjustmentGreen | 0 |
HueAdjustmentMagenta | 0 |
HueAdjustmentOrange | 0 |
HueAdjustmentPurple | 0 |
HueAdjustmentRed | 0 |
HueAdjustmentYellow | 0 |
HyperfocalDistance | 1692.36 m |
ImageHeight | 761 |
ImageNumber | 0 |
ImageSize | 1280x761 |
ImageWidth | 1280 |
ISO | 160 |
Keywords | 2011, airplane, flydagen 2011, flyshow, skien geiteryggen |
Label | Red |
Lens | EF500mm f/4L IS USM |
LensID (1) | 143 |
LensID | Canon EF 500mm f/4L IS USM |
LensInfo | 500mm f/? |
LensManualDistortionAmount | 0 |
LensModel | EF500mm f/4L IS USM |
LensProfileEnable | 0 |
LensProfileSetup | LensDefaults |
LightValue | 14.0 |
LuminanceAdjustmentAqua | 0 |
LuminanceAdjustmentBlue | 0 |
LuminanceAdjustmentGreen | 0 |
LuminanceAdjustmentMagenta | 0 |
LuminanceAdjustmentOrange | 0 |
LuminanceAdjustmentPurple | 0 |
LuminanceAdjustmentRed | 0 |
LuminanceAdjustmentYellow | 0 |
LuminanceSmoothing | 0 |
Make | Canon |
Marked | True |
MaxApertureValue | 4.0 |
Megapixels | 0.974 |
MeteringMode | Multi-segment |
Model | Canon EOS-1D Mark III |
ModifyDate (1) | 2011:08:21 02:06:59+02:00 |
ModifyDate | 2011:08:21 02:06:59 |
OwnerName | Jan Erik Arud |
PaintCorrectionActive | true |
PaintCorrectionAmount | 1.000000 |
PaintCorrectionBrightness | 0.025000 |
PaintCorrectionClarity | -0.655172 |
PaintCorrectionContrast | -0.149425 |
PaintCorrectionExposure | -0.100000 |
PaintCorrectionHue | 228.000000 |
PaintCorrectionMaskCenterWeight | 0.000000 |
PaintCorrectionMaskFlow | 0.600000 |
PaintCorrectionMaskRadius | 0.152745 |
PaintCorrectionMaskValue | 1.000000 |
PaintCorrectionMaskWhat | Mask/Paint |
PaintCorrectionSaturation (1) | -0.149425 |
PaintCorrectionSaturation | 0.020000 |
PaintCorrectionSharpness | -0.150000 |
PaintCorrectionWhat | Correction |
ParametricDarks | -11 |
ParametricHighlights | 0 |
ParametricHighlightSplit | 75 |
ParametricLights | +20 |
ParametricMidtoneSplit | 50 |
ParametricShadows | 0 |
ParametricShadowSplit | 25 |
PerspectiveHorizontal | 0 |
PerspectiveRotate | 0.0 |
PerspectiveScale | 100 |
PerspectiveVertical | 0 |
PostCropVignetteAmount | -22 |
PostCropVignetteFeather | 50 |
PostCropVignetteHighlightContrast | 0 |
PostCropVignetteMidpoint | 50 |
PostCropVignetteRoundness | 0 |
PostCropVignetteStyle | 1 |
ProcessVersion | 5.7 |
ProfileDescription | sRGB IEC61966-2.1 |
RedHue | 0 |
RedSaturation | 0 |
Rights | © 2011 Jan Erik Arud |
Saturation | 0 |
SaturationAdjustmentAqua | 0 |
SaturationAdjustmentBlue | 0 |
SaturationAdjustmentGreen | 0 |
SaturationAdjustmentMagenta | 0 |
SaturationAdjustmentOrange | 0 |
SaturationAdjustmentPurple | 0 |
SaturationAdjustmentRed | 0 |
SaturationAdjustmentYellow | 0 |
ScaleFactor35efl | 1.3 |
SceneCaptureType | Standard |
SerialNumber | 529067 |
Shadows | 5 |
ShadowTint | 0 |
SharpenDetail | 53 |
SharpenEdgeMasking | 10 |
SharpenRadius | +1.0 |
Sharpness | 64 |
ShutterSpeed | 1/640 |
ShutterSpeedValue | 1/640 |
Software | Adobe Photoshop Lightroom 3.4.1 |
SplitToningBalance | 0 |
SplitToningHighlightHue | 0 |
SplitToningHighlightSaturation | 0 |
SplitToningShadowHue | 0 |
SplitToningShadowSaturation | 0 |
Subject | 2011, airplane, flydagen 2011, flyshow, skien geiteryggen |
SubjectDistance | 4294967295 m |
Tint | +13 |
ToneCurve | 0, 0, 32, 22, 64, 56, 128, 128, 192, 196, 255, 255 |
ToneCurveName | Medium Contrast |
UsageTerms | For any reuse or distribution of this image, please contact Jan Erik Arud at jan.erik.arud@gmail.com |
Version | 6.4.1 |
Vibrance | +6 |
VignetteAmount | 0 |
WhiteBalance | Auto |