Felt | Verdi |
AlreadyApplied | True |
Aperture | 5.6 |
ApertureValue | 5.6 |
Artist | Flyxer |
BitsPerSample | 8 |
BlueHue | -60 |
BlueSaturation | +3 |
Brightness | +57 |
By-line | Flyxer |
CameraProfile | Adobe Standard |
ChromaticAberrationB | 0 |
ChromaticAberrationR | 0 |
CircleOfConfusion | 0.019 mm |
Clarity | +40 |
ColorComponents | 3 |
ColorNoiseReduction | 26 |
ColorNoiseReductionDetail | 50 |
ColorTemperature | 5850 |
Contrast | +69 |
ConvertToGrayscale | False |
CreateDate (1) | 2010:07:30 14:22:40.58+02:00 |
CreateDate | 2010:07:30 14:22:40 |
Creator | Flyxer |
CreatorTool | Adobe Photoshop Lightroom |
CropAngle | 3.214 |
CropBottom | 0.991862 |
CropConstrainToWarp | 0 |
CropHeight | 3224 |
CropLeft | 0.162443 |
CropRight | 0.74852 |
CropTop | 0.008138 |
CropUnit | pixels |
CropWidth | 3224 |
CustomRendered | Normal |
DateTimeDigitized | 2010:07:30 14:22:40.58+02:00 |
DateTimeOriginal (1) | 2010:07:30 14:22:40.58+02:00 |
DateTimeOriginal | 2010:07:30 14:22:40 |
Defringe | 0 |
DOF | 0.03 m (1.55 - 1.57 m) |
ExifImageHeight | 3224 |
ExifImageWidth | 3224 |
Exposure | +0.78 |
ExposureCompensation | 0 |
ExposureMode | Auto |
ExposureProgram | Aperture-priority AE |
ExposureTime | 1/1600 |
FillLight | 3 |
Firmware | 1.1.0 |
Flash | Off, Did not fire |
FlashCompensation | 0 |
FlashFired | False |
FlashFunction | False |
FlashMode | Off |
FlashRedEyeMode | False |
FlashReturn | No return detection |
FNumber | 5.6 |
FocalLength | 135.0 mm |
FocalLength35efl | 135.0 mm (35 mm equivalent: 212.0 mm) |
FOV | 9.7 deg |
GrainAmount | 0 |
GreenHue | +100 |
GreenSaturation | +100 |
HasCrop | True |
HasSettings | True |
HighlightRecovery | 78 |
HueAdjustmentAqua | 0 |
HueAdjustmentBlue | 0 |
HueAdjustmentGreen | 0 |
HueAdjustmentMagenta | 0 |
HueAdjustmentOrange | 0 |
HueAdjustmentPurple | 0 |
HueAdjustmentRed | 0 |
HueAdjustmentYellow | 0 |
HyperfocalDistance | 170.09 m |
ImageHeight | 3224 |
ImageNumber | 0 |
ImageSize | 3224x3224 |
ImageWidth | 3224 |
ISO | 320 |
Keywords | 7d |
Lens | EF-S18-135mm f/3.5-5.6 IS |
LensID (1) | 51 |
LensID | Canon EF-S 18-135mm f/3.5-5.6 IS |
LensInfo | 18-135mm f/? |
LensManualDistortionAmount | 0 |
LensProfileEnable | 0 |
LensProfileSetup | LensDefaults |
LightValue | 13.9 |
LuminanceAdjustmentAqua | +44 |
LuminanceAdjustmentBlue | +37 |
LuminanceAdjustmentGreen | 0 |
LuminanceAdjustmentMagenta | 0 |
LuminanceAdjustmentOrange | 0 |
LuminanceAdjustmentPurple | 0 |
LuminanceAdjustmentRed | -19 |
LuminanceAdjustmentYellow | 0 |
LuminanceSmoothing | 0 |
Make | Canon |
MaxApertureValue | 5.7 |
Megapixels | 10.4 |
MeteringMode | Multi-segment |
Model | Canon EOS 7D |
ModifyDate (1) | 2011:01:08 11:15:47+01:00 |
ModifyDate | 2011:01:08 11:15:47 |
ParametricDarks | +3 |
ParametricHighlights | 0 |
ParametricHighlightSplit | 75 |
ParametricLights | +9 |
ParametricMidtoneSplit | 50 |
ParametricShadows | -18 |
ParametricShadowSplit | 25 |
PerspectiveHorizontal | 0 |
PerspectiveRotate | 0.0 |
PerspectiveScale | 100 |
PerspectiveVertical | 0 |
PostCropVignetteAmount | 0 |
ProcessVersion | 5.7 |
ProfileDescription | sRGB IEC61966-2.1 |
RedHue | +100 |
RedSaturation | -100 |
Saturation | -24 |
SaturationAdjustmentAqua | +27 |
SaturationAdjustmentBlue | +29 |
SaturationAdjustmentGreen | -54 |
SaturationAdjustmentMagenta | 0 |
SaturationAdjustmentOrange | 0 |
SaturationAdjustmentPurple | 0 |
SaturationAdjustmentRed | +16 |
SaturationAdjustmentYellow | -45 |
ScaleFactor35efl | 1.6 |
SceneCaptureType | Standard |
SerialNumber | 430529841 |
Shadows | 2 |
ShadowTint | -4 |
SharpenDetail | 25 |
SharpenEdgeMasking | 0 |
SharpenRadius | +1.0 |
Sharpness | 0 |
ShutterSpeed | 1/1600 |
ShutterSpeedValue | 1/1600 |
SplitToningBalance | 0 |
SplitToningHighlightHue | 78 |
SplitToningHighlightSaturation | 58 |
SplitToningShadowHue | 233 |
SplitToningShadowSaturation | 78 |
Subject | 7d |
SubjectDistance | 1.56 m |
Tint | +9 |
ToneCurve | 0, 0, 32, 22, 64, 56, 128, 128, 192, 196, 255, 255 |
ToneCurveName | Medium Contrast |
Version | 6.1 |
Vibrance | +6 |
VignetteAmount | 0 |
WhiteBalance (2) | As Shot |
WhiteBalance | Auto |