Felt | Verdi |
AlreadyApplied | True |
Aperture | 7.1 |
ApertureValue | 7.1 |
AutoLateralCA | 0 |
AutoWhiteVersion | 134348800 |
BitsPerSample | 8 |
Blacks2012 | -28 |
BlueHue | 0 |
BlueSaturation | 0 |
BrightnessValue | 5.45859375 |
CameraProfile | Adobe Standard |
CircleOfConfusion | 0.020 mm |
Clarity2012 | +23 |
ColorComponents | 3 |
ColorMode | RGB |
ColorNoiseReduction | 25 |
ColorNoiseReductionDetail | 50 |
ColorNoiseReductionSmoothness | 50 |
ColorSpace | Uncalibrated |
ColorTemperature | 5900 |
ColorTransform | YCbCr |
Contrast | Normal |
Contrast2012 | +3 |
ConvertToGrayscale | False |
CreateDate | 2017:01:02 15:39:08 |
CreatorTool | SLT-A77V v1.05 |
CropAngle | 0 |
CropBottom | 0.953982 |
CropConstrainToWarp | 1 |
CropLeft | 0.01771 |
CropRight | 0.913813 |
CropTop | 0.102655 |
CustomRendered | Normal |
DateCreated (1) | 2017:01:02 |
DateCreated | 2017:01:02 15:39:08 |
DateTimeOriginal | 2017:01:02 15:39:08 |
DefringeGreenAmount | 0 |
DefringeGreenHueHi | 60 |
DefringeGreenHueLo | 40 |
DefringePurpleAmount | 0 |
DefringePurpleHueHi | 70 |
DefringePurpleHueLo | 30 |
Dehaze | 0 |
DistortionCorrectionAlreadyApplied | True |
ExifImageHeight | 3034 |
ExifImageWidth | 4551 |
Exposure2012 | +0.05 |
ExposureCompensation | 0 |
ExposureMode | Manual |
ExposureProgram | Manual |
ExposureTime | 1/80 |
Flash | Off, Did not fire |
FNumber | 7.1 |
FocalLength | 50.0 mm |
FocalLength35efl | 50.0 mm (35 mm equivalent: 75.0 mm) |
FocalLengthIn35mmFormat | 75 mm |
Format | image/jpeg |
FOV | 27.0 deg |
GPSAltitude (1) | 388.07 m |
GPSAltitude | 388 m Above Sea Level |
GPSAltitudeRef | Above Sea Level |
GPSDateStamp | 2017:01:02 |
GPSDateTime | 2017:01:02 14:39:09Z |
GPSDifferential | No Correction |
GPSDOP | 1.4927 |
GPSLatitude (1) | 60 deg 21' 34.81" |
GPSLatitude | 60 deg 21' 34.81" N |
GPSLatitudeRef | North |
GPSLongitude (1) | 5 deg 23' 14.17" |
GPSLongitude | 5 deg 23' 14.17" E |
GPSLongitudeRef | East |
GPSMapDatum | WGS-84 |
GPSMeasureMode | 3-Dimensional Measurement |
GPSPosition | 60 deg 21' 34.81" N, 5 deg 23' 14.17" E |
GPSSpeed | 0.743 |
GPSSpeedRef | km/h |
GPSStatus | Measurement Active |
GPSTimeStamp | 14:39:09 |
GPSTrack | 296.68 |
GPSTrackRef | True North |
GPSVersionID | 2.3.0.0 |
GrainAmount | 0 |
GreenHue | 0 |
GreenSaturation | 0 |
HasCrop | True |
HasExtendedXMP | BCE5F49B66D312BEB9D663B64C8F3831 |
HasSettings | True |
Highlights2012 | +8 |
HueAdjustmentAqua | 0 |
HueAdjustmentBlue | 0 |
HueAdjustmentGreen | 0 |
HueAdjustmentMagenta | 0 |
HueAdjustmentOrange | 0 |
HueAdjustmentPurple | 0 |
HueAdjustmentRed | 0 |
HueAdjustmentYellow | 0 |
HyperfocalDistance | 17.58 m |
ICCProfileName | Adobe RGB (1998) |
ImageHeight | 3034 |
ImageSize | 4551x3034 |
ImageWidth | 4551 |
ISO | 500 |
Lens | 50mm F1.4 |
LensID (1) | 44 |
LensID | Sony 50mm F1.4 (SAL50F14) |
LensInfo | 50mm f/1.4 |
LensManualDistortionAmount | 0 |
LensModel | 50mm F1.4 |
LensProfileChromaticAberrationScale | 100 |
LensProfileDistortionScale | 100 |
LensProfileEnable | 1 |
LensProfileFilename | SONY (Sony 50mm F1.4) - RAW.lcp |
LensProfileName | Adobe (Sony 50mm F1.4, v2) |
LensProfileSetup | LensDefaults |
LensProfileVignettingScale | 100 |
LightSource | Unknown |
LightValue | 9.7 |
LuminanceAdjustmentAqua | 0 |
LuminanceAdjustmentBlue | 0 |
LuminanceAdjustmentGreen | 0 |
LuminanceAdjustmentMagenta | 0 |
LuminanceAdjustmentOrange | 0 |
LuminanceAdjustmentPurple | 0 |
LuminanceAdjustmentRed | 0 |
LuminanceAdjustmentYellow | 0 |
LuminanceSmoothing | 0 |
Make | SONY |
MaxApertureValue | 1.4 |
Megapixels | 13.8 |
MeteringMode | Multi-segment |
Model | SLT-A77V |
ModifyDate (1) | 2017:01:02 20:41:54+01:00 |
ModifyDate | 2017:01:02 20:41:54 |
Orientation | Horizontal (normal) |
PaintCorrectionActive | true |
PaintCorrectionAmount | 1.000000 |
PaintCorrectionBrightness | 0.000000 |
PaintCorrectionClarity | 0.000000 |
PaintCorrectionClarity2012 | 0.000000 |
PaintCorrectionContrast | 0.000000 |
PaintCorrectionContrast2012 | 0.000000 |
PaintCorrectionDefringe | 0.000000 |
PaintCorrectionExposure | 0.000000 |
PaintCorrectionExposure2012 (1) | 0.125000 |
PaintCorrectionExposure2012 (3) | -0.062500 |
PaintCorrectionExposure2012 | 0.037500 |
PaintCorrectionHighlights2012 | 0.000000 |
PaintCorrectionHue | 0.000000 |
PaintCorrectionLocalBlacks2012 (2) | -0.020000 |
PaintCorrectionLocalBlacks2012 | -0.080000 |
PaintCorrectionLocalDehaze | 0.000000 |
PaintCorrectionLocalWhites2012 | 0.000000 |
PaintCorrectionLuminanceNoise | 0.000000 |
PaintCorrectionMaskCenterWeight | 0.131575 |
PaintCorrectionMaskFlow | 0.888889 |
PaintCorrectionMaskRadius (1) | 0.031343 |
PaintCorrectionMaskRadius (10) | 0.081900 |
PaintCorrectionMaskRadius (11) | 0.081758 |
PaintCorrectionMaskRadius (12) | 0.081842 |
PaintCorrectionMaskRadius (13) | 0.081324 |
PaintCorrectionMaskRadius (14) | 0.081558 |
PaintCorrectionMaskRadius (15) | 0.082369 |
PaintCorrectionMaskRadius (16) | 0.081724 |
PaintCorrectionMaskRadius (17) | 0.082045 |
PaintCorrectionMaskRadius (18) | 0.081358 |
PaintCorrectionMaskRadius (19) | 0.081777 |
PaintCorrectionMaskRadius (2) | 0.031355 |
PaintCorrectionMaskRadius (20) | 0.039942 |
PaintCorrectionMaskRadius (21) | 0.039990 |
PaintCorrectionMaskRadius (22) | 0.039997 |
PaintCorrectionMaskRadius (23) | 0.039984 |
PaintCorrectionMaskRadius (24) | 0.040025 |
PaintCorrectionMaskRadius (25) | 0.039923 |
PaintCorrectionMaskRadius (26) | 0.040023 |
PaintCorrectionMaskRadius (27) | 0.039914 |
PaintCorrectionMaskRadius (28) | 0.039896 |
PaintCorrectionMaskRadius (29) | 0.039671 |
PaintCorrectionMaskRadius (30) | 0.039675 |
PaintCorrectionMaskRadius (31) | 0.039844 |
PaintCorrectionMaskRadius (32) | 0.157050 |
PaintCorrectionMaskRadius (33) | 0.158505 |
PaintCorrectionMaskRadius (34) | 0.158682 |
PaintCorrectionMaskRadius (4) | 0.031342 |
PaintCorrectionMaskRadius (5) | 0.031508 |
PaintCorrectionMaskRadius (6) | 0.031493 |
PaintCorrectionMaskRadius (7) | 0.031494 |
PaintCorrectionMaskRadius (8) | 0.031359 |
PaintCorrectionMaskRadius (9) | 0.031289 |
PaintCorrectionMaskRadius | 0.157221 |
PaintCorrectionMaskValue | 1.000000 |
PaintCorrectionMaskWhat | Mask/Paint |
PaintCorrectionMoire | 0.000000 |
PaintCorrectionSaturation | 0.000000 |
PaintCorrectionShadows2012 | 0.000000 |
PaintCorrectionSharpness | 0.000000 |
PaintCorrectionTemperature | 0.000000 |
PaintCorrectionTint | 0.000000 |
PaintCorrectionWhat | Correction |
ParametricDarks | 0 |
ParametricHighlights | 0 |
ParametricHighlightSplit | 75 |
ParametricLights | 0 |
ParametricMidtoneSplit | 50 |
ParametricShadows | 0 |
ParametricShadowSplit | 25 |
PerspectiveAspect | 0 |
PerspectiveHorizontal | 0 |
PerspectiveRotate | 0.0 |
PerspectiveScale | 100 |
PerspectiveUpright | 0 |
PerspectiveVertical | 0 |
PerspectiveX | 0.00 |
PerspectiveY | 0.00 |
PostCropVignetteAmount | 0 |
ProcessVersion | 6.7 |
ProfileDescription | Adobe RGB (1998) |
Rating | 0 |
RawFileName | DSC07617.ARW |
RecommendedExposureIndex | 500 |
RedHue | 0 |
RedSaturation | 0 |
Saturation (1) | +12 |
Saturation | Normal |
SaturationAdjustmentAqua | 0 |
SaturationAdjustmentBlue | 0 |
SaturationAdjustmentGreen | 0 |
SaturationAdjustmentMagenta | 0 |
SaturationAdjustmentOrange | 0 |
SaturationAdjustmentPurple | 0 |
SaturationAdjustmentRed | +6 |
SaturationAdjustmentYellow | 0 |
ScaleFactor35efl | 1.5 |
SceneCaptureType | Standard |
SceneType | Directly photographed |
SensitivityType | Recommended Exposure Index |
Shadows2012 | -6 |
ShadowTint | 0 |
SharpenDetail | 25 |
SharpenEdgeMasking | 0 |
SharpenRadius | +1.0 |
Sharpness (1) | 32 |
Sharpness | Normal |
ShutterSpeed | 1/80 |
ShutterSpeedValue | 1/80 |
Software | Adobe Photoshop CC 2015.5 (Windows) |
SplitToningBalance | 0 |
SplitToningHighlightHue | 53 |
SplitToningHighlightSaturation | 15 |
SplitToningShadowHue | 0 |
SplitToningShadowSaturation | 0 |
Tint | -5 |
ToneCurve | 0, 0, 32, 22, 64, 56, 128, 128, 192, 196, 255, 255 |
ToneCurveBlue | 0, 0, 255, 255 |
ToneCurveGreen | 0, 0, 255, 255 |
ToneCurveName | Medium Contrast |
ToneCurveName2012 | Linear |
ToneCurvePV2012 | 0, 0, 255, 255 |
ToneCurvePV2012Blue | 0, 0, 255, 255 |
ToneCurvePV2012Green | 0, 0, 255, 255 |
ToneCurvePV2012Red | 0, 0, 255, 255 |
ToneCurveRed | 0, 0, 255, 255 |
ToneMapStrength | 0 |
URL_List | |
Version | 9.7 |
Vibrance | +6 |
VignetteAmount | -29 |
VignetteCorrectionAlreadyApplied | True |
VignetteMidpoint | 0 |
WhiteBalance (1) | Custom |
WhiteBalance | Auto |
Whites2012 | +19 |